BEGIN:VCALENDAR
VERSION:2.0
PRODID:SchoolNow
CALSCALE:GREGORIAN
BEGIN:VEVENT
UID:85d6e0b8-baa8-11f0-9def-0afff9da4985
DTSTAMP:20260419T124513Z
SUMMARY:Student Council Spirit Day-Fresh & Fruity Foodie Friday
URL;VALUE=URI:https://www.tusd.org/schools/riviera/calendar/8780167/student
 -council-spirit-day-fresh-fruity-foodie-friday
DTSTART;VALUE=DATE:20260220
DTEND;VALUE=DATE:20260221
END:VEVENT
END:VCALENDAR
