BEGIN:VCALENDAR
VERSION:2.0
PRODID:SchoolNow
CALSCALE:GREGORIAN
BEGIN:VEVENT
UID:03df3fec-a4a5-11f0-a876-0a58a9feac02
DTSTAMP:20260419T124513Z
SUMMARY:Talent Show
URL;VALUE=URI:https://www.tusd.org/schools/riviera/calendar/8707029/talent-
 show
DTSTART:20260228T023000Z
DTEND:20260228T043000Z
END:VEVENT
END:VCALENDAR
