BEGIN:VCALENDAR
VERSION:2.0
PRODID:SchoolNow
CALSCALE:GREGORIAN
BEGIN:VEVENT
UID:644dd9be-8395-11f0-8cf5-0a58a9feac02
DTSTAMP:20260419T124513Z
SUMMARY:Riviera Mexican Grill fundraiser
URL;VALUE=URI:https://www.tusd.org/schools/riviera/calendar/8551295/riviera
 -mexican-grill-fundraiser
DTSTART;VALUE=DATE:20260521
DTEND;VALUE=DATE:20260522
END:VEVENT
END:VCALENDAR
