BEGIN:VCALENDAR
VERSION:2.0
PRODID:SchoolNow
CALSCALE:GREGORIAN
BEGIN:VEVENT
UID:042512f4-4bd3-11f0-8ee0-0a58a9feac02
DTSTAMP:20260419T124513Z
SUMMARY:Blue Ribbon Day
URL;VALUE=URI:https://www.tusd.org/schools/riviera/calendar/8320660/blue-ri
 bbon-day
DTSTART;VALUE=DATE:20260526
DTEND;VALUE=DATE:20260527
END:VEVENT
END:VCALENDAR
