BEGIN:VCALENDAR
VERSION:2.0
PRODID:SchoolNow
CALSCALE:GREGORIAN
BEGIN:VEVENT
UID:04251218-4bd3-11f0-9fd2-0a58a9feac02
DTSTAMP:20260419T124513Z
SUMMARY:Achievement Reports
URL;VALUE=URI:https://www.tusd.org/schools/riviera/calendar/8320659/achieve
 ment-reports
DTSTART;VALUE=DATE:20260611
DTEND;VALUE=DATE:20260612
END:VEVENT
END:VCALENDAR
