BEGIN:VCALENDAR
VERSION:2.0
PRODID:SchoolNow
CALSCALE:GREGORIAN
BEGIN:VEVENT
UID:0425113c-4bd3-11f0-837f-0a58a9feac02
DTSTAMP:20260419T124513Z
SUMMARY:Last day of school-Dismissal
URL;VALUE=URI:https://www.tusd.org/schools/riviera/calendar/8320658/last-da
 y-of-school-dismissal
DTSTART:20260611T190000Z
DTEND:20260611T200000Z
END:VEVENT
END:VCALENDAR
