BEGIN:VCALENDAR
VERSION:2.0
PRODID:SchoolNow
CALSCALE:GREGORIAN
BEGIN:VEVENT
UID:04251060-4bd3-11f0-ae2f-0a58a9feac02
DTSTAMP:20260419T124513Z
SUMMARY:5th Grade Party
URL;VALUE=URI:https://www.tusd.org/schools/riviera/calendar/8320657/5th-gra
 de-party
DTSTART;VALUE=DATE:20260610
DTEND;VALUE=DATE:20260611
END:VEVENT
END:VCALENDAR
