BEGIN:VCALENDAR
VERSION:2.0
PRODID:SchoolNow
CALSCALE:GREGORIAN
BEGIN:VEVENT
UID:04250ea8-4bd3-11f0-86f6-0a58a9feac02
DTSTAMP:20260419T124513Z
SUMMARY:5th Grade Promotion
URL;VALUE=URI:https://www.tusd.org/schools/riviera/calendar/8320655/5th-gra
 de-promotion
DTSTART:20260608T160000Z
DTEND:20260608T170000Z
END:VEVENT
END:VCALENDAR
