BEGIN:VCALENDAR
VERSION:2.0
PRODID:SchoolNow
CALSCALE:GREGORIAN
BEGIN:VEVENT
UID:04250dcc-4bd3-11f0-b987-0a58a9feac02
DTSTAMP:20260419T124513Z
SUMMARY:Volunteer Tea
URL;VALUE=URI:https://www.tusd.org/schools/riviera/calendar/8320654/volunte
 er-tea
DTSTART;VALUE=DATE:20260603
DTEND;VALUE=DATE:20260604
END:VEVENT
END:VCALENDAR
