BEGIN:VCALENDAR
VERSION:2.0
PRODID:SchoolNow
CALSCALE:GREGORIAN
BEGIN:VEVENT
UID:04250cf0-4bd3-11f0-831b-0a58a9feac02
DTSTAMP:20260419T124513Z
SUMMARY:District Track Meet
URL;VALUE=URI:https://www.tusd.org/schools/riviera/calendar/8320653/distric
 t-track-meet
DTSTART;VALUE=DATE:20260529
DTEND;VALUE=DATE:20260530
END:VEVENT
END:VCALENDAR
