BEGIN:VCALENDAR
VERSION:2.0
PRODID:SchoolNow
CALSCALE:GREGORIAN
BEGIN:VEVENT
UID:04250c14-4bd3-11f0-9979-0a58a9feac02
DTSTAMP:20260419T124513Z
SUMMARY:Spring Chorus Performance
URL;VALUE=URI:https://www.tusd.org/schools/riviera/calendar/8320652/spring-
 chorus-performance
DTSTART;VALUE=DATE:20260528
DTEND;VALUE=DATE:20260529
END:VEVENT
END:VCALENDAR
