BEGIN:VCALENDAR
VERSION:2.0
PRODID:SchoolNow
CALSCALE:GREGORIAN
BEGIN:VEVENT
UID:04250b2e-4bd3-11f0-a3a4-0a58a9feac02
DTSTAMP:20260419T124513Z
SUMMARY:No School-Memorial Day
URL;VALUE=URI:https://www.tusd.org/schools/riviera/calendar/8320651/no-scho
 ol-memorial-day
DTSTART;VALUE=DATE:20260525
DTEND;VALUE=DATE:20260526
END:VEVENT
END:VCALENDAR
