BEGIN:VCALENDAR
VERSION:2.0
PRODID:SchoolNow
CALSCALE:GREGORIAN
BEGIN:VEVENT
UID:04250a52-4bd3-11f0-8c67-0a58a9feac02
DTSTAMP:20260419T124513Z
SUMMARY:Portfolio Day/Special Someone Lunch
URL;VALUE=URI:https://www.tusd.org/schools/riviera/calendar/8320650/portfol
 io-day-special-someone-lunch
DTSTART;VALUE=DATE:20260522
DTEND;VALUE=DATE:20260523
END:VEVENT
END:VCALENDAR
