BEGIN:VCALENDAR
VERSION:2.0
PRODID:SchoolNow
CALSCALE:GREGORIAN
BEGIN:VEVENT
UID:04250836-4bd3-11f0-a47e-0a58a9feac02
DTSTAMP:20260419T124513Z
SUMMARY:Mother Son Dance
URL;VALUE=URI:https://www.tusd.org/schools/riviera/calendar/8320648/mother-
 son-dance
DTSTART;VALUE=DATE:20260508
DTEND;VALUE=DATE:20260509
END:VEVENT
END:VCALENDAR
