BEGIN:VCALENDAR
VERSION:2.0
PRODID:SchoolNow
CALSCALE:GREGORIAN
BEGIN:VEVENT
UID:042505a2-4bd3-11f0-9fb8-0a58a9feac02
DTSTAMP:20260419T124513Z
SUMMARY:No School
URL;VALUE=URI:https://www.tusd.org/schools/riviera/calendar/8320645/no-scho
 ol
DTSTART;VALUE=DATE:20260501
DTEND;VALUE=DATE:20260502
END:VEVENT
END:VCALENDAR
