BEGIN:VCALENDAR
VERSION:2.0
PRODID:SchoolNow
CALSCALE:GREGORIAN
BEGIN:VEVENT
UID:0424fdd2-4bd3-11f0-9f07-0a58a9feac02
DTSTAMP:20260419T124513Z
SUMMARY:3rd Grade Performance
URL;VALUE=URI:https://www.tusd.org/schools/riviera/calendar/8320636/3rd-gra
 de-performance
DTSTART;VALUE=DATE:20260326
DTEND;VALUE=DATE:20260327
END:VEVENT
END:VCALENDAR
