BEGIN:VCALENDAR
VERSION:2.0
PRODID:SchoolNow
CALSCALE:GREGORIAN
BEGIN:VEVENT
UID:0424fcf6-4bd3-11f0-8ca4-0a58a9feac02
DTSTAMP:20260419T124513Z
SUMMARY:Invite Only Conferences
URL;VALUE=URI:https://www.tusd.org/schools/riviera/calendar/8320635/invite-
 only-conferences
DTSTART;VALUE=DATE:20260325
DTEND;VALUE=DATE:20260328
END:VEVENT
END:VCALENDAR
