BEGIN:VCALENDAR
VERSION:2.0
PRODID:SchoolNow
CALSCALE:GREGORIAN
BEGIN:VEVENT
UID:0424fa58-4bd3-11f0-ab6f-0a58a9feac02
DTSTAMP:20260419T124513Z
SUMMARY:Bike Rodeo
URL;VALUE=URI:https://www.tusd.org/schools/riviera/calendar/8320632/bike-ro
 deo
DTSTART;VALUE=DATE:20260320
DTEND;VALUE=DATE:20260321
END:VEVENT
END:VCALENDAR
