BEGIN:VCALENDAR
VERSION:2.0
PRODID:SchoolNow
CALSCALE:GREGORIAN
BEGIN:VEVENT
UID:0424f97c-4bd3-11f0-a5ae-0a58a9feac02
DTSTAMP:20260419T124513Z
SUMMARY:Fun Run
URL;VALUE=URI:https://www.tusd.org/schools/riviera/calendar/8320631/fun-run
DTSTART;VALUE=DATE:20260313
DTEND;VALUE=DATE:20260314
END:VEVENT
END:VCALENDAR
