BEGIN:VCALENDAR
VERSION:2.0
PRODID:SchoolNow
CALSCALE:GREGORIAN
BEGIN:VEVENT
UID:0424f8a0-4bd3-11f0-9256-0a58a9feac02
DTSTAMP:20260419T124513Z
SUMMARY:No School-Staff Development
URL;VALUE=URI:https://www.tusd.org/schools/riviera/calendar/8320630/no-scho
 ol-staff-development
DTSTART;VALUE=DATE:20260306
DTEND;VALUE=DATE:20260307
END:VEVENT
END:VCALENDAR
