BEGIN:VCALENDAR
VERSION:2.0
PRODID:SchoolNow
CALSCALE:GREGORIAN
BEGIN:VEVENT
UID:0424f7ce-4bd3-11f0-b52e-0a58a9feac02
DTSTAMP:20260419T124513Z
SUMMARY:Dr Seuss/Read Across America Day/Pajama Day
URL;VALUE=URI:https://www.tusd.org/schools/riviera/calendar/8320629/dr-seus
 s-read-across-america-day-pajama-day
DTSTART;VALUE=DATE:20260302
DTEND;VALUE=DATE:20260303
END:VEVENT
END:VCALENDAR
