BEGIN:VCALENDAR
VERSION:2.0
PRODID:SchoolNow
CALSCALE:GREGORIAN
BEGIN:VEVENT
UID:0424f6e8-4bd3-11f0-bbd0-0a58a9feac02
DTSTAMP:20260419T124513Z
SUMMARY:Riviera STEAM Fair
URL;VALUE=URI:https://www.tusd.org/schools/riviera/calendar/8320628/riviera
 -steam-fair
DTSTART;VALUE=DATE:20260226
DTEND;VALUE=DATE:20260227
END:VEVENT
END:VCALENDAR
