BEGIN:VCALENDAR
VERSION:2.0
PRODID:SchoolNow
CALSCALE:GREGORIAN
BEGIN:VEVENT
UID:0424f602-4bd3-11f0-a5f8-0a58a9feac02
DTSTAMP:20260419T124513Z
SUMMARY:Spring Picture Day
URL;VALUE=URI:https://www.tusd.org/schools/riviera/calendar/8320627/spring-
 picture-day
DTSTART;VALUE=DATE:20260218
DTEND;VALUE=DATE:20260219
END:VEVENT
END:VCALENDAR
