BEGIN:VCALENDAR
VERSION:2.0
PRODID:SchoolNow
CALSCALE:GREGORIAN
BEGIN:VEVENT
UID:0424f436-4bd3-11f0-852d-0a58a9feac02
DTSTAMP:20260419T124513Z
SUMMARY:No School-President's Day
URL;VALUE=URI:https://www.tusd.org/schools/riviera/calendar/8320626/no-scho
 ol-presidents-day
DTSTART;VALUE=DATE:20260216
DTEND;VALUE=DATE:20260217
END:VEVENT
END:VCALENDAR
