BEGIN:VCALENDAR
VERSION:2.0
PRODID:SchoolNow
CALSCALE:GREGORIAN
BEGIN:VEVENT
UID:0424f35a-4bd3-11f0-b99a-0a58a9feac02
DTSTAMP:20260421T072014Z
SUMMARY:TK Performance
URL;VALUE=URI:https://www.tusd.org/schools/riviera/calendar/8320625/tk-perf
 ormance
DTSTART:20260213T173000Z
DTEND:20260213T180000Z
END:VEVENT
END:VCALENDAR
