BEGIN:VCALENDAR
VERSION:2.0
PRODID:SchoolNow
CALSCALE:GREGORIAN
BEGIN:VEVENT
UID:0424f27e-4bd3-11f0-9c2b-0a58a9feac02
DTSTAMP:20260421T072014Z
SUMMARY:No School-Lincoln's Birthday
URL;VALUE=URI:https://www.tusd.org/schools/riviera/calendar/8320624/no-scho
 ol-lincolns-birthday
DTSTART;VALUE=DATE:20260209
DTEND;VALUE=DATE:20260210
END:VEVENT
END:VCALENDAR
