BEGIN:VCALENDAR
VERSION:2.0
PRODID:SchoolNow
CALSCALE:GREGORIAN
BEGIN:VEVENT
UID:0424f1a2-4bd3-11f0-8f59-0a58a9feac02
DTSTAMP:20260419T124513Z
SUMMARY:Handbag Bingo
URL;VALUE=URI:https://www.tusd.org/schools/riviera/calendar/8320623/handbag
 -bingo
DTSTART;VALUE=DATE:20260131
DTEND;VALUE=DATE:20260201
END:VEVENT
END:VCALENDAR
