BEGIN:VCALENDAR
VERSION:2.0
PRODID:SchoolNow
CALSCALE:GREGORIAN
BEGIN:VEVENT
UID:0424f0c6-4bd3-11f0-b5fe-0a58a9feac02
DTSTAMP:20260419T124513Z
SUMMARY:Father Daughter Dance
URL;VALUE=URI:https://www.tusd.org/schools/riviera/calendar/8320622/father-
 daughter-dance
DTSTART;VALUE=DATE:20260123
DTEND;VALUE=DATE:20260124
END:VEVENT
END:VCALENDAR
