BEGIN:VCALENDAR
VERSION:2.0
PRODID:SchoolNow
CALSCALE:GREGORIAN
BEGIN:VEVENT
UID:0424ef0e-4bd3-11f0-9eb7-0a58a9feac02
DTSTAMP:20260419T124513Z
SUMMARY:Parent Teacher Conferences
URL;VALUE=URI:https://www.tusd.org/schools/riviera/calendar/8320620/parent-
 teacher-conferences
DTSTART;VALUE=DATE:20260120
DTEND;VALUE=DATE:20260124
END:VEVENT
END:VCALENDAR
