BEGIN:VCALENDAR
VERSION:2.0
PRODID:SchoolNow
CALSCALE:GREGORIAN
BEGIN:VEVENT
UID:0424ee28-4bd3-11f0-b56a-0a58a9feac02
DTSTAMP:20260419T124513Z
SUMMARY:Early Dismissal 2:13pm
URL;VALUE=URI:https://www.tusd.org/schools/riviera/calendar/8320619/early-d
 ismissal-2-13pm
DTSTART;VALUE=DATE:20260126
DTEND;VALUE=DATE:20260130
END:VEVENT
END:VCALENDAR
