BEGIN:VCALENDAR
VERSION:2.0
PRODID:SchoolNow
CALSCALE:GREGORIAN
BEGIN:VEVENT
UID:0424ec66-4bd3-11f0-ac83-0a58a9feac02
DTSTAMP:20260419T124513Z
SUMMARY:No School-MLK Day
URL;VALUE=URI:https://www.tusd.org/schools/riviera/calendar/8320617/no-scho
 ol-mlk-day
DTSTART;VALUE=DATE:20260119
DTEND;VALUE=DATE:20260120
END:VEVENT
END:VCALENDAR
