BEGIN:VCALENDAR
VERSION:2.0
PRODID:SchoolNow
CALSCALE:GREGORIAN
BEGIN:VEVENT
UID:0424eaa4-4bd3-11f0-9da3-0a58a9feac02
DTSTAMP:20260419T124513Z
SUMMARY:Firefighter Appreciation
URL;VALUE=URI:https://www.tusd.org/schools/riviera/calendar/8320615/firefig
 hter-appreciation
DTSTART;VALUE=DATE:20260112
DTEND;VALUE=DATE:20260113
END:VEVENT
END:VCALENDAR
