BEGIN:VCALENDAR
VERSION:2.0
PRODID:SchoolNow
CALSCALE:GREGORIAN
BEGIN:VEVENT
UID:0424e9c8-4bd3-11f0-b4f4-0a58a9feac02
DTSTAMP:20260419T124513Z
SUMMARY:No School-Winter Break
URL;VALUE=URI:https://www.tusd.org/schools/riviera/calendar/8320614/no-scho
 ol-winter-break
DTSTART;VALUE=DATE:20251222
DTEND;VALUE=DATE:20260103
END:VEVENT
END:VCALENDAR
