BEGIN:VCALENDAR
VERSION:2.0
PRODID:SchoolNow
CALSCALE:GREGORIAN
BEGIN:VEVENT
UID:a0ad7c4e-e1b4-11ef-8e78-0ecc84a6d399
DTSTAMP:20260421T050511Z
SUMMARY:California Clean Air Day
URL;VALUE=URI:https://www.tusd.org/schools/north-high-school/calendar/74128
 56/california-clean-air-day
DTSTART;VALUE=DATE:20261002
DTEND;VALUE=DATE:20261003
END:VEVENT
END:VCALENDAR
