BEGIN:VCALENDAR
VERSION:2.0
PRODID:SchoolNow
CALSCALE:GREGORIAN
BEGIN:VEVENT
UID:fbb7906e-3854-11f1-aad5-0a58a9feac02
DTSTAMP:20260421T190507Z
SUMMARY:5th Grade Parent Night
URL;VALUE=URI:https://www.tusd.org/schools/magruder/calendar/8994154/5th-gr
 ade-parent-night
DTSTART:20260422T000000Z
DTEND:20260422T010000Z
END:VEVENT
END:VCALENDAR
