BEGIN:VCALENDAR
VERSION:2.0
PRODID:SchoolNow
CALSCALE:GREGORIAN
BEGIN:VEVENT
UID:fbb78c40-3854-11f1-a785-0a58a9feac02
DTSTAMP:20260421T190507Z
SUMMARY:Open House
URL;VALUE=URI:https://www.tusd.org/schools/magruder/calendar/8994153/open-h
 ouse
DTSTART:20260422T010000Z
DTEND:20260422T020000Z
END:VEVENT
END:VCALENDAR
