BEGIN:VCALENDAR
VERSION:2.0
PRODID:SchoolNow
CALSCALE:GREGORIAN
BEGIN:VEVENT
UID:fbb75126-3854-11f1-b5eb-0a58a9feac02
DTSTAMP:20260421T190507Z
SUMMARY:Early Out - 2:16pm
URL;VALUE=URI:https://www.tusd.org/schools/magruder/calendar/8994152/early-
 out-2-16pm
DTSTART:20260422T153500Z
DTEND:20260422T211600Z
END:VEVENT
END:VCALENDAR
