BEGIN:VCALENDAR
VERSION:2.0
PRODID:SchoolNow
CALSCALE:GREGORIAN
BEGIN:VEVENT
UID:b41411ce-31f6-11f1-9233-023f4fdaf661
DTSTAMP:20260421T190507Z
SUMMARY:Carnival
URL;VALUE=URI:https://www.tusd.org/schools/magruder/calendar/8974907/carniv
 al
DTSTART:20260425T000000Z
DTEND:20260425T020000Z
END:VEVENT
END:VCALENDAR
