BEGIN:VCALENDAR
VERSION:2.0
PRODID:SchoolNow
CALSCALE:GREGORIAN
BEGIN:VEVENT
UID:22d41ea4-2966-11f1-a443-0affd77634fd
DTSTAMP:20260421T190507Z
SUMMARY:NHS/8th Grade Mixer
URL;VALUE=URI:https://www.tusd.org/schools/magruder/calendar/8948102/nhs-8t
 h-grade-mixer
DTSTART:20260422T230000Z
DTEND:20260423T020000Z
END:VEVENT
END:VCALENDAR
