BEGIN:VCALENDAR
VERSION:2.0
PRODID:SchoolNow
CALSCALE:GREGORIAN
BEGIN:VEVENT
UID:bf1e9572-1f3f-11f1-bae4-0afffbceb331
DTSTAMP:20260421T190507Z
SUMMARY:Special Late Start Day
URL;VALUE=URI:https://www.tusd.org/schools/magruder/calendar/8916176/specia
 l-late-start-day
DTSTART:20260323T162000Z
DTEND:20260323T221600Z
END:VEVENT
END:VCALENDAR
