BEGIN:VCALENDAR
VERSION:2.0
PRODID:SchoolNow
CALSCALE:GREGORIAN
BEGIN:VEVENT
UID:26167f32-1c2b-11f1-9d38-0a58a9feac02
DTSTAMP:20260421T190507Z
SUMMARY:FFB - at Hull
URL;VALUE=URI:https://www.tusd.org/schools/magruder/calendar/8905892/ffb-at
 -hull
DTSTART:20260409T230000Z
DTEND:20260410T010000Z
END:VEVENT
END:VCALENDAR
