BEGIN:VCALENDAR
VERSION:2.0
PRODID:SchoolNow
CALSCALE:GREGORIAN
BEGIN:VEVENT
UID:26167d20-1c2b-11f1-8ef5-0a58a9feac02
DTSTAMP:20260421T190507Z
SUMMARY:FFB Casimir at NHS
URL;VALUE=URI:https://www.tusd.org/schools/magruder/calendar/8905891/ffb-ca
 simir-at-nhs
DTSTART:20260430T003000Z
DTEND:20260430T023000Z
END:VEVENT
END:VCALENDAR
