BEGIN:VCALENDAR
VERSION:2.0
PRODID:SchoolNow
CALSCALE:GREGORIAN
BEGIN:VEVENT
UID:26167a64-1c2b-11f1-b3be-0a58a9feac02
DTSTAMP:20260421T190507Z
SUMMARY:FFB - Jefferson at Magruder
URL;VALUE=URI:https://www.tusd.org/schools/magruder/calendar/8905890/ffb-je
 fferson-at-magruder
DTSTART:20260416T230000Z
DTEND:20260417T010000Z
END:VEVENT
END:VCALENDAR
