BEGIN:VCALENDAR
VERSION:2.0
PRODID:SchoolNow
CALSCALE:GREGORIAN
BEGIN:VEVENT
UID:26167866-1c2b-11f1-8550-0a58a9feac02
DTSTAMP:20260421T190507Z
SUMMARY:FFB at Calle Mayor
URL;VALUE=URI:https://www.tusd.org/schools/magruder/calendar/8905889/ffb-at
 -calle-mayor
DTSTART:20260326T230000Z
DTEND:20260327T010000Z
END:VEVENT
END:VCALENDAR
