BEGIN:VCALENDAR
VERSION:2.0
PRODID:SchoolNow
CALSCALE:GREGORIAN
BEGIN:VEVENT
UID:261657a0-1c2b-11f1-80fb-0a58a9feac02
DTSTAMP:20260421T190507Z
SUMMARY:FFB - Lynn at Magruder
URL;VALUE=URI:https://www.tusd.org/schools/magruder/calendar/8905888/ffb-ly
 nn-at-magruder
DTSTART:20260423T230000Z
DTEND:20260424T010000Z
END:VEVENT
END:VCALENDAR
