BEGIN:VCALENDAR
VERSION:2.0
PRODID:SchoolNow
CALSCALE:GREGORIAN
BEGIN:VEVENT
UID:28c5be92-1bf8-11f1-9ce3-020c74e31ae7
DTSTAMP:20260421T190507Z
SUMMARY:Island's Fundraiser
URL;VALUE=URI:https://www.tusd.org/schools/magruder/calendar/8905079/island
 s-fundraiser
DTSTART:20260326T230000Z
DTEND:20260327T050000Z
END:VEVENT
END:VCALENDAR
