BEGIN:VCALENDAR
VERSION:2.0
PRODID:SchoolNow
CALSCALE:GREGORIAN
BEGIN:VEVENT
UID:b5d41524-079c-11f1-b77e-0afffcbb6cb3
DTSTAMP:20260421T190507Z
SUMMARY:ELMAC Meeting
URL;VALUE=URI:https://www.tusd.org/schools/magruder/calendar/8853607/elmac-
 meeting
DTSTART:20260520T010000Z
DTEND:20260520T020000Z
END:VEVENT
END:VCALENDAR
