BEGIN:VCALENDAR
VERSION:2.0
PRODID:SchoolNow
CALSCALE:GREGORIAN
BEGIN:VEVENT
UID:b5d4116e-079c-11f1-a865-0afffcbb6cb3
DTSTAMP:20260422T011007Z
SUMMARY:ELMAC Meeting
URL;VALUE=URI:https://www.tusd.org/schools/magruder/calendar/8853606/elmac-
 meeting
DTSTART:20260225T020000Z
DTEND:20260225T030000Z
END:VEVENT
END:VCALENDAR
