BEGIN:VCALENDAR
VERSION:2.0
PRODID:SchoolNow
CALSCALE:GREGORIAN
BEGIN:VEVENT
UID:fe5b2e70-0208-11f1-950f-0a58a9feac02
DTSTAMP:20260421T190507Z
SUMMARY:Incoming 9th Grade Info Night @ NHS
URL;VALUE=URI:https://www.tusd.org/schools/magruder/calendar/8849674/incomi
 ng-9th-grade-info-night-nhs
DTSTART:20260415T003000Z
DTEND:20260415T020000Z
END:VEVENT
END:VCALENDAR
