BEGIN:VCALENDAR
VERSION:2.0
PRODID:SchoolNow
CALSCALE:GREGORIAN
BEGIN:VEVENT
UID:fe5b2a60-0208-11f1-b41b-0a58a9feac02
DTSTAMP:20260421T190507Z
SUMMARY:7th Grade NHS Class Info Night on Zoom
URL;VALUE=URI:https://www.tusd.org/schools/magruder/calendar/8849673/7th-gr
 ade-nhs-class-info-night-on-zoom
DTSTART:20260410T013000Z
DTEND:20260410T023000Z
END:VEVENT
END:VCALENDAR
